BEGIN:VCALENDAR
VERSION:2.0
PRODID:-//Imam Ali Masjid - ECPv4.6.19//NONSGML v1.0//EN
CALSCALE:GREGORIAN
METHOD:PUBLISH
X-WR-CALNAME:Imam Ali Masjid
X-ORIGINAL-URL:http://imamalimasjid.com/iam
X-WR-CALDESC:Events for Imam Ali Masjid
BEGIN:VEVENT
DTSTART;TZID=America/New_York:20260329T110000
DTEND;TZID=America/New_York:20260329T143000
DTSTAMP:20260424T182259
CREATED:20260104T151942Z
LAST-MODIFIED:20260104T151942Z
UID:7700-1774782000-1774794600@imamalimasjid.com
SUMMARY:Sunday School
DESCRIPTION:
URL:http://imamalimasjid.com/iam/event/sunday-school-394/
LOCATION:5801 Magnolia Avenue\, Pennsauken\, NJ\, 08109\, United States
CATEGORIES:Regular Programs
ORGANIZER;CN="ImamAliMasjid":MAILTO:admin@imamalimasjid.com
END:VEVENT
BEGIN:VEVENT
DTSTART;TZID=America/New_York:20260402T190000
DTEND;TZID=America/New_York:20260402T210000
DTSTAMP:20260424T182259
CREATED:20260402T204929Z
LAST-MODIFIED:20260402T205109Z
UID:7860-1775156400-1775163600@imamalimasjid.com
SUMMARY:Shab e Jummah
DESCRIPTION:Sponsored by Muzaffary Family \n
URL:http://imamalimasjid.com/iam/event/shab-e-jummah-604/
LOCATION:5801 Magnolia Avenue\, Pennsauken\, NJ\, 08109\, United States
CATEGORIES:Regular Programs
ORGANIZER;CN="ImamAliMasjid":MAILTO:admin@imamalimasjid.com
END:VEVENT
BEGIN:VEVENT
DTSTART;TZID=America/New_York:20260403T123000
DTEND;TZID=America/New_York:20260403T140000
DTSTAMP:20260424T182259
CREATED:20260402T205406Z
LAST-MODIFIED:20260402T205406Z
UID:7883-1775219400-1775224800@imamalimasjid.com
SUMMARY:Friday Prayers
DESCRIPTION:
URL:http://imamalimasjid.com/iam/event/friday-prayers-83/
LOCATION:5801 Magnolia Avenue\, Pennsauken\, NJ\, 08109\, United States
CATEGORIES:Regular Programs
ORGANIZER;CN="ImamAliMasjid":MAILTO:admin@imamalimasjid.com
END:VEVENT
BEGIN:VEVENT
DTSTART;TZID=America/New_York:20260405T110000
DTEND;TZID=America/New_York:20260405T143000
DTSTAMP:20260424T182259
CREATED:20260402T205226Z
LAST-MODIFIED:20260402T205226Z
UID:7875-1775386800-1775399400@imamalimasjid.com
SUMMARY:Sunday School
DESCRIPTION:
URL:http://imamalimasjid.com/iam/event/sunday-school-395/
LOCATION:5801 Magnolia Avenue\, Pennsauken\, NJ\, 08109\, United States
CATEGORIES:Regular Programs
ORGANIZER;CN="ImamAliMasjid":MAILTO:admin@imamalimasjid.com
END:VEVENT
BEGIN:VEVENT
DTSTART;TZID=America/New_York:20260409T190000
DTEND;TZID=America/New_York:20260409T210000
DTSTAMP:20260424T182259
CREATED:20260402T204952Z
LAST-MODIFIED:20260402T205116Z
UID:7862-1775761200-1775768400@imamalimasjid.com
SUMMARY:Shab e Jummah
DESCRIPTION:Sponsored by Ahmad Family \n
URL:http://imamalimasjid.com/iam/event/shab-e-jummah-605/
LOCATION:5801 Magnolia Avenue\, Pennsauken\, NJ\, 08109\, United States
CATEGORIES:Regular Programs
ORGANIZER;CN="ImamAliMasjid":MAILTO:admin@imamalimasjid.com
END:VEVENT
BEGIN:VEVENT
DTSTART;TZID=America/New_York:20260410T123000
DTEND;TZID=America/New_York:20260410T140000
DTSTAMP:20260424T182259
CREATED:20260402T205426Z
LAST-MODIFIED:20260402T205426Z
UID:7885-1775824200-1775829600@imamalimasjid.com
SUMMARY:Friday Prayers
DESCRIPTION:
URL:http://imamalimasjid.com/iam/event/friday-prayers-84/
LOCATION:5801 Magnolia Avenue\, Pennsauken\, NJ\, 08109\, United States
CATEGORIES:Regular Programs
ORGANIZER;CN="ImamAliMasjid":MAILTO:admin@imamalimasjid.com
END:VEVENT
BEGIN:VEVENT
DTSTART;TZID=America/New_York:20260412T110000
DTEND;TZID=America/New_York:20260412T143000
DTSTAMP:20260424T182259
CREATED:20260402T205245Z
LAST-MODIFIED:20260402T205245Z
UID:7877-1775991600-1776004200@imamalimasjid.com
SUMMARY:Sunday School
DESCRIPTION:
URL:http://imamalimasjid.com/iam/event/sunday-school-396/
LOCATION:5801 Magnolia Avenue\, Pennsauken\, NJ\, 08109\, United States
CATEGORIES:Regular Programs
ORGANIZER;CN="ImamAliMasjid":MAILTO:admin@imamalimasjid.com
END:VEVENT
BEGIN:VEVENT
DTSTART;TZID=America/New_York:20260416T190000
DTEND;TZID=America/New_York:20260416T210000
DTSTAMP:20260424T182259
CREATED:20260402T205015Z
LAST-MODIFIED:20260402T205123Z
UID:7864-1776366000-1776373200@imamalimasjid.com
SUMMARY:Shab e Jummah
DESCRIPTION:Sponsored by Saai Family \n
URL:http://imamalimasjid.com/iam/event/shab-e-jummah-606/
LOCATION:5801 Magnolia Avenue\, Pennsauken\, NJ\, 08109\, United States
CATEGORIES:Regular Programs
ORGANIZER;CN="ImamAliMasjid":MAILTO:admin@imamalimasjid.com
END:VEVENT
BEGIN:VEVENT
DTSTART;TZID=America/New_York:20260417T123000
DTEND;TZID=America/New_York:20260417T140000
DTSTAMP:20260424T182259
CREATED:20260402T205447Z
LAST-MODIFIED:20260402T205447Z
UID:7887-1776429000-1776434400@imamalimasjid.com
SUMMARY:Friday Prayers
DESCRIPTION:
URL:http://imamalimasjid.com/iam/event/friday-prayers-85/
LOCATION:5801 Magnolia Avenue\, Pennsauken\, NJ\, 08109\, United States
CATEGORIES:Regular Programs
ORGANIZER;CN="ImamAliMasjid":MAILTO:admin@imamalimasjid.com
END:VEVENT
BEGIN:VEVENT
DTSTART;TZID=America/New_York:20260419T110000
DTEND;TZID=America/New_York:20260419T143000
DTSTAMP:20260424T182259
CREATED:20260402T205305Z
LAST-MODIFIED:20260402T205305Z
UID:7879-1776596400-1776609000@imamalimasjid.com
SUMMARY:Sunday School
DESCRIPTION:
URL:http://imamalimasjid.com/iam/event/sunday-school-397/
LOCATION:5801 Magnolia Avenue\, Pennsauken\, NJ\, 08109\, United States
CATEGORIES:Regular Programs
ORGANIZER;CN="ImamAliMasjid":MAILTO:admin@imamalimasjid.com
END:VEVENT
BEGIN:VEVENT
DTSTART;TZID=America/New_York:20260423T190000
DTEND;TZID=America/New_York:20260423T210000
DTSTAMP:20260424T182259
CREATED:20260402T205035Z
LAST-MODIFIED:20260402T205130Z
UID:7866-1776970800-1776978000@imamalimasjid.com
SUMMARY:Shab e Jummah
DESCRIPTION:Sponsored by Sultani Family \n
URL:http://imamalimasjid.com/iam/event/shab-e-jummah-607/
LOCATION:5801 Magnolia Avenue\, Pennsauken\, NJ\, 08109\, United States
CATEGORIES:Regular Programs
ORGANIZER;CN="ImamAliMasjid":MAILTO:admin@imamalimasjid.com
END:VEVENT
BEGIN:VEVENT
DTSTART;TZID=America/New_York:20260424T123000
DTEND;TZID=America/New_York:20260424T140000
DTSTAMP:20260424T182259
CREATED:20260402T205508Z
LAST-MODIFIED:20260402T205508Z
UID:7889-1777033800-1777039200@imamalimasjid.com
SUMMARY:Friday Prayers
DESCRIPTION:
URL:http://imamalimasjid.com/iam/event/friday-prayers-86/
LOCATION:5801 Magnolia Avenue\, Pennsauken\, NJ\, 08109\, United States
CATEGORIES:Regular Programs
ORGANIZER;CN="ImamAliMasjid":MAILTO:admin@imamalimasjid.com
END:VEVENT
BEGIN:VEVENT
DTSTART;TZID=America/New_York:20260426T110000
DTEND;TZID=America/New_York:20260426T143000
DTSTAMP:20260424T182259
CREATED:20260402T205327Z
LAST-MODIFIED:20260402T205327Z
UID:7881-1777201200-1777213800@imamalimasjid.com
SUMMARY:Sunday School
DESCRIPTION:
URL:http://imamalimasjid.com/iam/event/sunday-school-398/
LOCATION:5801 Magnolia Avenue\, Pennsauken\, NJ\, 08109\, United States
CATEGORIES:Regular Programs
ORGANIZER;CN="ImamAliMasjid":MAILTO:admin@imamalimasjid.com
END:VEVENT
BEGIN:VEVENT
DTSTART;TZID=America/New_York:20260430T190000
DTEND;TZID=America/New_York:20260430T210000
DTSTAMP:20260424T182259
CREATED:20260402T205057Z
LAST-MODIFIED:20260402T205136Z
UID:7868-1777575600-1777582800@imamalimasjid.com
SUMMARY:Shab e Jummah
DESCRIPTION:Sponsored by Bayat Family \n
URL:http://imamalimasjid.com/iam/event/shab-e-jummah-608/
LOCATION:5801 Magnolia Avenue\, Pennsauken\, NJ\, 08109\, United States
CATEGORIES:Regular Programs
ORGANIZER;CN="ImamAliMasjid":MAILTO:admin@imamalimasjid.com
END:VEVENT
END:VCALENDAR