BEGIN:VCALENDAR
VERSION:2.0
PRODID:-//Imam Ali Masjid - ECPv4.6.19//NONSGML v1.0//EN
CALSCALE:GREGORIAN
METHOD:PUBLISH
X-WR-CALNAME:Imam Ali Masjid
X-ORIGINAL-URL:http://imamalimasjid.com/iam
X-WR-CALDESC:Events for Imam Ali Masjid
BEGIN:VEVENT
DTSTART;TZID=America/New_York:20250223T153000
DTEND;TZID=America/New_York:20250223T173000
DTSTAMP:20260424T165304
CREATED:20250313T225255Z
LAST-MODIFIED:20250313T225315Z
UID:6987-1740324600-1740331800@imamalimasjid.com
SUMMARY:Soccer Games
DESCRIPTION:
URL:http://imamalimasjid.com/iam/event/soccer-games-42/
LOCATION:1248 N Church St\, Moorestown\, NJ\, 08057\, United States
ORGANIZER;CN="ImamAliMasjid":MAILTO:admin@imamalimasjid.com
END:VEVENT
END:VCALENDAR