BEGIN:VCALENDAR
VERSION:2.0
PRODID:-//Imam Ali Masjid - ECPv4.6.19//NONSGML v1.0//EN
CALSCALE:GREGORIAN
METHOD:PUBLISH
X-WR-CALNAME:Imam Ali Masjid
X-ORIGINAL-URL:http://imamalimasjid.com/iam
X-WR-CALDESC:Events for Imam Ali Masjid
BEGIN:VEVENT
DTSTART;TZID=America/New_York:20260216T170000
DTEND;TZID=America/New_York:20260216T190000
DTSTAMP:20260423T232600
CREATED:20260301T161130Z
LAST-MODIFIED:20260301T161130Z
UID:7814-1771261200-1771268400@imamalimasjid.com
SUMMARY:Khatem for Marhoom Riyadh Hussein Hadi
DESCRIPTION:
URL:http://imamalimasjid.com/iam/event/khatem-for-marhoom-riyadh-hussein-hadi/
LOCATION:5801 Magnolia Avenue\, Pennsauken\, NJ\, 08109\, United States
ORGANIZER;CN="ImamAliMasjid":MAILTO:admin@imamalimasjid.com
END:VEVENT
END:VCALENDAR