BEGIN:VCALENDAR
VERSION:2.0
PRODID:-//Imam Ali Masjid - ECPv4.6.19//NONSGML v1.0//EN
CALSCALE:GREGORIAN
METHOD:PUBLISH
X-WR-CALNAME:Imam Ali Masjid
X-ORIGINAL-URL:http://imamalimasjid.com/iam
X-WR-CALDESC:Events for Imam Ali Masjid
BEGIN:VEVENT
DTSTART;TZID=America/New_York:20250601T140000
DTEND;TZID=America/New_York:20250601T160000
DTSTAMP:20260424T143218
CREATED:20250606T213532Z
LAST-MODIFIED:20250606T213532Z
UID:7260-1748786400-1748793600@imamalimasjid.com
SUMMARY:Janaza for Marhooma Malika Khatoon
DESCRIPTION:Janaza Service will be on Sunday\, June 1st at 2:00 PM at Bait Al Qayem Masjid\, followed by burial at Morgan Cemetery. \n
URL:http://imamalimasjid.com/iam/event/janaza-for-marhooma-malika-khatoon/
LOCATION:1100 Cinnaminson Ave\, Cinnaminson\, NJ\, 08077\, United States
END:VEVENT
END:VCALENDAR