BEGIN:VCALENDAR
VERSION:2.0
PRODID:-//Imam Ali Masjid - ECPv4.6.19//NONSGML v1.0//EN
CALSCALE:GREGORIAN
METHOD:PUBLISH
X-WR-CALNAME:Imam Ali Masjid
X-ORIGINAL-URL:http://imamalimasjid.com/iam
X-WR-CALDESC:Events for Imam Ali Masjid
BEGIN:VEVENT
DTSTART;TZID=America/New_York:20250704T123000
DTEND;TZID=America/New_York:20250704T140000
DTSTAMP:20260425T190846
CREATED:20250628T153802Z
LAST-MODIFIED:20250628T153802Z
UID:7347-1751632200-1751637600@imamalimasjid.com
SUMMARY:Friday Prayers
DESCRIPTION:
URL:http://imamalimasjid.com/iam/event/friday-prayers-44/
LOCATION:5801 Magnolia Avenue\, Pennsauken\, NJ\, 08109\, United States
ORGANIZER;CN="ImamAliMasjid":MAILTO:admin@imamalimasjid.com
END:VEVENT
END:VCALENDAR