BEGIN:VCALENDAR
VERSION:2.0
PRODID:-//Imam Ali Masjid - ECPv4.6.19//NONSGML v1.0//EN
CALSCALE:GREGORIAN
METHOD:PUBLISH
X-WR-CALNAME:Imam Ali Masjid
X-ORIGINAL-URL:http://imamalimasjid.com/iam
X-WR-CALDESC:Events for Imam Ali Masjid
BEGIN:VEVENT
DTSTART;TZID=America/New_York:20250704T220000
DTEND;TZID=America/New_York:20250704T230000
DTSTAMP:20260425T190756
CREATED:20250629T015411Z
LAST-MODIFIED:20250629T015411Z
UID:7365-1751666400-1751670000@imamalimasjid.com
SUMMARY:Extended Q&A with Sayed Ali Qazwini
DESCRIPTION:
URL:http://imamalimasjid.com/iam/event/extended-qa-with-sayed-ali-qazwini-2/
LOCATION:5801 Magnolia Avenue\, Pennsauken\, NJ\, 08109\, United States
ORGANIZER;CN="ImamAliMasjid":MAILTO:admin@imamalimasjid.com
END:VEVENT
END:VCALENDAR